BEGIN:VCALENDAR
VERSION:2.0
PRODID:-//Tri-State Running Company - ECPv6.15.17.1//NONSGML v1.0//EN
CALSCALE:GREGORIAN
METHOD:PUBLISH
X-WR-CALNAME:Tri-State Running Company
X-ORIGINAL-URL:https://tristaterunning.com
X-WR-CALDESC:Events for Tri-State Running Company
REFRESH-INTERVAL;VALUE=DURATION:PT1H
X-Robots-Tag:noindex
X-PUBLISHED-TTL:PT1H
BEGIN:VTIMEZONE
TZID:America/New_York
BEGIN:DAYLIGHT
TZOFFSETFROM:-0500
TZOFFSETTO:-0400
TZNAME:EDT
DTSTART:20250309T070000
END:DAYLIGHT
BEGIN:STANDARD
TZOFFSETFROM:-0400
TZOFFSETTO:-0500
TZNAME:EST
DTSTART:20251102T060000
END:STANDARD
BEGIN:DAYLIGHT
TZOFFSETFROM:-0500
TZOFFSETTO:-0400
TZNAME:EDT
DTSTART:20260308T070000
END:DAYLIGHT
BEGIN:STANDARD
TZOFFSETFROM:-0400
TZOFFSETTO:-0500
TZNAME:EST
DTSTART:20261101T060000
END:STANDARD
BEGIN:DAYLIGHT
TZOFFSETFROM:-0500
TZOFFSETTO:-0400
TZNAME:EDT
DTSTART:20270314T070000
END:DAYLIGHT
BEGIN:STANDARD
TZOFFSETFROM:-0400
TZOFFSETTO:-0500
TZNAME:EST
DTSTART:20271107T060000
END:STANDARD
END:VTIMEZONE
BEGIN:VEVENT
DTSTART;TZID=America/New_York:20260509T080000
DTEND;TZID=America/New_York:20260509T100000
DTSTAMP:20260422T222129
CREATED:20260422T211932Z
LAST-MODIFIED:20260422T212018Z
UID:6518-1778313600-1778320800@tristaterunning.com
SUMMARY:Forest Hills 5K
DESCRIPTION:17th Annual FH5K: Small Steps\, Big Impact!\nJoin the Forest Hills Foundation for a community tradition that moves our schools forward. On Saturday\, May 9th\, we’re coming together at Nagel Middle School to support the wellness and success of over 7\,000 students. \nOur goal this year is to raise $180\,000 for innovative programs and student wellness throughout the Forest Hills School District. Every registration helps us make a Big Impact! \n\nEvent Schedule & Details\n\n\nWhen: Saturday\, May 9\, 2026 \n\n\nRace Start: 8:30 AM \n\n\nAfter Party: 9:00 AM – 11:00 AM \n\n\nWhere: Nagel Middle School | 1500 Nagel Rd.\, Cincinnati\, OH 45255 \n\n\nPacket Pick-Up\n\n\nFriday\, May 8: 3:30 PM – 7:30 PM at Nagel Middle School \n\n\nSaturday\, May 9 (Late Pick-up): Starting at 7:00 AM at Nagel Middle School \n\n\nRegistration & Gear\nYour registration includes an official FH5K race shirt! Register early to guarantee your preferred size—once a size is gone\, it’s gone! \n\n💰 Early Bird Tip: Register by May 1st to save! Prices increase by $5 starting May 2nd. \n\nReady to make a difference? SIGN UP TODAY!
URL:https://tristaterunning.com/event/forest-hills-5k-2/
LOCATION:Nagel Middle School\, 1500 Nagel Rd.\, Cincinnati\, OH\, 45255\, United States
CATEGORIES:Races and Runs
ATTACH;FMTTYPE=image/png:https://tristaterunning.com/wp-content/uploads/2026/04/FH5K26.png
ORGANIZER;CN="Forest Hills Foundation":MAILTO:info@fhfe.org
END:VEVENT
BEGIN:VEVENT
DTSTART;TZID=America/New_York:20260516T083000
DTEND;TZID=America/New_York:20260516T110000
DTSTAMP:20260422T222129
CREATED:20250328T192459Z
LAST-MODIFIED:20260112T220817Z
UID:5245-1778920200-1778929200@tristaterunning.com
SUMMARY:K-9 Yoube 5K Run/Walk
DESCRIPTION:Place\n51 Elm St\nLudlow\, KY US 41016\n\n\n\n\nDescription\n\n\nPacket pickup at Tri State Running Company in Edgewood KY (noon-6PM)\nor race morning 7AM-830AM \nAwards provided by Tri State Running for top 3 overall finishers (male and female) and age group \nUnder 12\, 12-18\, 19-29\, 30-39\, 40-49\, 50-59\, over 60 \nWe will be offering a race hoodie that can be purchased separately. \nThis event is organized by a third party\, not Project K-9 Hero. All net proceeds support Project K-9 Hero\, but registration fees may not be tax deductible.
URL:https://tristaterunning.com/event/k-9-yoube-5k-run-walk/
LOCATION:Ludlow\, 51 Elm Street\, Ludlow\, KY\, 41016\, United States
CATEGORIES:Races and Runs
ATTACH;FMTTYPE=image/jpeg:https://tristaterunning.com/wp-content/uploads/2025/03/1442552613399843828.jpg
END:VEVENT
END:VCALENDAR