BEGIN:VCALENDAR
VERSION:2.0
PRODID:-//Tri-State Running Company - ECPv6.15.17.1//NONSGML v1.0//EN
CALSCALE:GREGORIAN
METHOD:PUBLISH
X-WR-CALNAME:Tri-State Running Company
X-ORIGINAL-URL:https://tristaterunning.com
X-WR-CALDESC:Events for Tri-State Running Company
REFRESH-INTERVAL;VALUE=DURATION:PT1H
X-Robots-Tag:noindex
X-PUBLISHED-TTL:PT1H
BEGIN:VTIMEZONE
TZID:America/New_York
BEGIN:DAYLIGHT
TZOFFSETFROM:-0500
TZOFFSETTO:-0400
TZNAME:EDT
DTSTART:20240310T070000
END:DAYLIGHT
BEGIN:STANDARD
TZOFFSETFROM:-0400
TZOFFSETTO:-0500
TZNAME:EST
DTSTART:20241103T060000
END:STANDARD
BEGIN:DAYLIGHT
TZOFFSETFROM:-0500
TZOFFSETTO:-0400
TZNAME:EDT
DTSTART:20250309T070000
END:DAYLIGHT
BEGIN:STANDARD
TZOFFSETFROM:-0400
TZOFFSETTO:-0500
TZNAME:EST
DTSTART:20251102T060000
END:STANDARD
BEGIN:DAYLIGHT
TZOFFSETFROM:-0500
TZOFFSETTO:-0400
TZNAME:EDT
DTSTART:20260308T070000
END:DAYLIGHT
BEGIN:STANDARD
TZOFFSETFROM:-0400
TZOFFSETTO:-0500
TZNAME:EST
DTSTART:20261101T060000
END:STANDARD
END:VTIMEZONE
BEGIN:VEVENT
DTSTART;TZID=America/New_York:20250807T183000
DTEND;TZID=America/New_York:20250807T200000
DTSTAMP:20260420T164957
CREATED:20230425T221600Z
LAST-MODIFIED:20250325T184804Z
UID:2804-1754591400-1754596800@tristaterunning.com
SUMMARY:Trail Series #6 Valley View Foundation
DESCRIPTION:FREE & OPEN TO EVERYONE! Come explore our local trails with Tri-State Running Company this summer. We welcome all paces and abilities. No registration needed. Runs are typically 3-5 miles. \nAltra\, our Trail Series sponsor\, will be raffling off a pair of shoes at each run. \nWe’ll have refreshing adult beverages afterwards. Come enjoy some time in the woods with us! \nJoin us for the 6th of our 8 runs in our 2025 Summer Trail Series. \nValley View Foundation \nWe will meet in the parking lot of the park across from Pattison Elementary School and go explore the trails. \n5330 S Milford Rd\, Milford\, OH 45150
URL:https://tristaterunning.com/event/2025-tsrc-trail-run-series-6th-of-8-valley-view-foundation/
LOCATION:Valley View\, 5330 S Milford Rd\, Milford\, 45150
CATEGORIES:TSRC Summer Trail Series
ATTACH;FMTTYPE=image/png:https://tristaterunning.com/wp-content/uploads/2025/03/2025-Summer-Trail-Series.png
END:VEVENT
BEGIN:VEVENT
DTSTART;TZID=America/New_York:20250821T183000
DTEND;TZID=America/New_York:20250821T200000
DTSTAMP:20260420T164957
CREATED:20230425T221055Z
LAST-MODIFIED:20250814T194106Z
UID:2814-1755801000-1755806400@tristaterunning.com
SUMMARY:Trail Series #7 Highland Hills Park
DESCRIPTION:FREE & OPEN TO EVERYONE! Come explore our local trails with Tri-State Running Company this summer. We welcome all paces and abilities. No registration needed. Runs are typically 3-5 miles. \nAltra\, our Trail Series sponsor\, will be raffling off a pair of shoes at each run. \nWe’ll have refreshing adult beverages afterwards. Come enjoy some time in the woods with us! \nJoin us for the 7th of our 8 runs in our 2025 Summer Trail Series. \nWe will meet at Shelter 2 and then go and explore the trails. \n101 Mayfield Ave\, Fort Thomas\, KY 41075 \n 
URL:https://tristaterunning.com/event/2025-tsrc-trail-run-series-7th-of-8-highland-hills-park/
LOCATION:Highland Hills Park\, 101 Mayfield Ave\, Fort Thomas\, 41075\, United States
CATEGORIES:TSRC Summer Trail Series
ATTACH;FMTTYPE=image/png:https://tristaterunning.com/wp-content/uploads/2025/03/2025-Summer-Trail-Series.png
END:VEVENT
END:VCALENDAR