BEGIN:VCALENDAR
VERSION:2.0
PRODID:-//Tri-State Running Company - ECPv6.15.17.1//NONSGML v1.0//EN
CALSCALE:GREGORIAN
METHOD:PUBLISH
X-WR-CALNAME:Tri-State Running Company
X-ORIGINAL-URL:https://tristaterunning.com
X-WR-CALDESC:Events for Tri-State Running Company
REFRESH-INTERVAL;VALUE=DURATION:PT1H
X-Robots-Tag:noindex
X-PUBLISHED-TTL:PT1H
BEGIN:VTIMEZONE
TZID:America/New_York
BEGIN:DAYLIGHT
TZOFFSETFROM:-0500
TZOFFSETTO:-0400
TZNAME:EDT
DTSTART:20250309T070000
END:DAYLIGHT
BEGIN:STANDARD
TZOFFSETFROM:-0400
TZOFFSETTO:-0500
TZNAME:EST
DTSTART:20251102T060000
END:STANDARD
BEGIN:DAYLIGHT
TZOFFSETFROM:-0500
TZOFFSETTO:-0400
TZNAME:EDT
DTSTART:20260308T070000
END:DAYLIGHT
BEGIN:STANDARD
TZOFFSETFROM:-0400
TZOFFSETTO:-0500
TZNAME:EST
DTSTART:20261101T060000
END:STANDARD
BEGIN:DAYLIGHT
TZOFFSETFROM:-0500
TZOFFSETTO:-0400
TZNAME:EDT
DTSTART:20270314T070000
END:DAYLIGHT
BEGIN:STANDARD
TZOFFSETFROM:-0400
TZOFFSETTO:-0500
TZNAME:EST
DTSTART:20271107T060000
END:STANDARD
END:VTIMEZONE
BEGIN:VEVENT
DTSTART;TZID=America/New_York:20260421T183000
DTEND;TZID=America/New_York:20260421T200000
DTSTAMP:20260421T032533
CREATED:20260414T111840Z
LAST-MODIFIED:20260414T111840Z
UID:6475-1776796200-1776801600@tristaterunning.com
SUMMARY:Barleycorn's Pub Run
DESCRIPTION:Meet us Tuesday nights at 6:30 pm for our fun pub run from Barleycorn’s Florence. Routes will include 3-5 miles options and are free\, and open to the public. All paces and abilities are welcome! Run for the wings\, stay for the Happy Hour! \nRemember to check in to earn these rewards: \n5 Runs = Logo Pint Glass \n10 Runs = Running Socks \n15 Runs = Logo T-Shirt \n20 Runs = Stoneware Mug \n85 Miles = Growler \n200 Annual Miles = $40 TSRC Gift Card
URL:https://tristaterunning.com/event/barleycorns-pub-run-2/
LOCATION:Barleycorn’s Florence\, 8544 US Hwy 42\, Florence\, KY\, 41042\, United States
CATEGORIES:Fun Run,Pub Runs
ATTACH;FMTTYPE=image/png:https://tristaterunning.com/wp-content/uploads/2026/04/2-Barleycorns-Fun-Pub-Run-IG-Post.png
ORGANIZER;CN="Tri-State Running Company - Florence":MAILTO:support@tristaterunning.com
END:VEVENT
END:VCALENDAR